BEGIN:VCALENDAR
VERSION:2.0
PRODID:-//Психолог Наталия Иченко - ECPv6.15.20//NONSGML v1.0//EN
CALSCALE:GREGORIAN
METHOD:PUBLISH
X-ORIGINAL-URL:https://psychologichenko.ru
X-WR-CALDESC:Мероприятия для Психолог Наталия Иченко
REFRESH-INTERVAL;VALUE=DURATION:PT1H
X-Robots-Tag:noindex
X-PUBLISHED-TTL:PT1H
BEGIN:VTIMEZONE
TZID:Europe/Moscow
BEGIN:STANDARD
TZOFFSETFROM:+0300
TZOFFSETTO:+0300
TZNAME:MSK
DTSTART:20220101T000000
END:STANDARD
END:VTIMEZONE
BEGIN:VEVENT
DTSTART;TZID=Europe/Moscow:20230128T110000
DTEND;TZID=Europe/Moscow:20230129T190000
DTSTAMP:20260423T141811
CREATED:20230111T105643Z
LAST-MODIFIED:20230111T112320Z
UID:296-1674903600-1675018800@psychologichenko.ru
SUMMARY:Курс обучения Гештальт-терапии - 28-29 января
DESCRIPTION:Базовый очный курс обучения методологии и практике гештальт-терапии. \nОбучение в малых группах и индивидуальные работа с преподавателем позволят вам качественно овладеть новыми инструментами и получить компетенции гештальт-консультанта. \nВы освоите основные приемы работы и техники гештальт-терапии — осознавание\, фокусировка энергии\, работа с полярностями\, работа со сновидениями\, научитесь диагностическим и проективным методам работы. \nДлительность — 5 месяцев (занятия 1 раз в месяц по выходным — суббота+воскресенье) \nСтоимость курса — 32 500 рублей \nБеспроцентная рассрочка — 6500 рублей в месяц.
URL:https://psychologichenko.ru/event/%d0%ba%d1%83%d1%80%d1%81-%d0%b3%d0%b5%d1%88%d1%82%d0%b0%d0%bb%d1%8c%d1%82-%d1%82%d0%b5%d1%80%d0%b0%d0%bf%d0%b8%d0%b8/
ATTACH;FMTTYPE=image/jpeg:https://psychologichenko.ru/wp-content/uploads/2023/01/IMG_0688.jpg
END:VEVENT
END:VCALENDAR